BEGIN:VCALENDAR
VERSION:2.0
PRODID:-//CiviCRM//NONSGML CiviEvent iCal//EN
X-WR-TIMEZONE:Europe/Berlin
METHOD:PUBLISH
BEGIN:VTIMEZONE
TZID:Europe/Berlin
BEGIN:DAYLIGHT
TZOFFSETFROM:+0200
TZOFFSETTO:+0200
TZNAME:CEST
DTSTART:20260501T090000
END:DAYLIGHT
END:VTIMEZONE
BEGIN:VEVENT
UID:CiviCRM_EventID_202_8effdef02a71fd2804c9910562f165e5@spreeakademie.de
SUMMARY:Lernreise: Exkursion zum Baumblütenfest Döllingen
X-ALT-DESC;FMTTYPE=text/html:<!DOCTYPE HTML PUBLIC
  "-//W3C//DTD HTML 3.2//EN"><html><body><p><strong
 >Freuen Sie sich auf einen inspirierenden Ausflug 
 in eine besondere Obstlandschaft. Lernen Sie mehr 
 über Anbau\, Nutzung und Geschichte unserer Obstso
 rten und sammeln Sie Ideen für Ihren eigenen Garte
 n.</strong></p>\n \n <p>Wir wollen mit Euch/Ihnen 
 gemeinsam den Frühling feiern. Am 1. Mai machen wi
 r einen Ausflug nach Döllingen in den Pomologische
 n Schau- und Lehrgarten. Dort gibt es beim Blütenf
 est viel zu erleben:</p>\n \n <ul>\n 	<li>Mitmach-
 Angebote für Groß und Klein\,</li>\n 	<li>Kutschfa
 hrten mit Eseln für Kinder\,</li>\n 	<li>kleiner M
 arkt mit regionalen Köstlichkeiten\,</li>\n 	<li>R
 aritäten für die Frühjahrspflanzung und</li>\n 	<l
 i>natürlich ganz viel Musik und Essen.</li>\n </ul
 >\n \n <p><strong>Und als besonderes Extra bekomme
 n wir als Reisegruppe eine exklusive Führung durch
  den Schau- und Lehrgarten.</strong></p>\n \n <p>O
 bstgehölze sind wertvolle Bestandteile unserer Kul
 turlandschaft. Sie schenken uns Früchte\, schaffen
  Lebensräume und prägen vielerorts das Landschafts
 bild. Im Pomologischen Schau- und Lehrgarten Dölli
 ngen wachsen rund 400 Obstgehölze. Jede zusätzlich
 e Pflanzenart zieht andere Insekten an. Von ihnen 
 leben wiederum Vögel\, Eidechsen\, Igel und viele 
 andere Tiere. So entstehen komplexe Lebensgemeinsc
 haften\, die unsere Gärten zu kleinen Ökosystemen 
 machen können.</p>\n \n <p><strong>An- und Abfahrt
  mit dem Bus</strong></p>\n \n <ul>\n 	<li>Cottbus
  HBf. 8:30 Uhr</li>\n 	<li>Vetschau Bahnhof: 9:30 
 Uhr</li>\n 	<li>Lübbenau Bahnhof: 10:00 Uhr</li>\n
  </ul>\n \n <p> </p>\n \n <ul>\n 	<li>Ankunft in L
 übbenau Bhf: 17:00 Uhr</li>\n 	<li>Ankunft in Vets
 chau Hbf: 17:20 Uhr</li>\n 	<li>Ankunft Cottbus Hb
 f: 18:00 Uhr<br />\n 	 </li>\n </ul>\n \n <p><stro
 ng>Die Teilnahme ist kostenlos\, die Plätze sind b
 egrenzt. </strong></p>\n \n <p><strong>Hinweis: </
 strong>Dieser Workshop sowie viele andere Bildungs
 angebote werden im Rahmen des <a href="https://spr
 eeakademie.de/projekte/partizipnatur/">Projektes „
 PartizipNatur“</a> durchgeführt. <strong>Dank eine
 r Förderung ist die Teilnahme daher für Sie kosten
 los!</strong> Das Projekt wird aus Mitteln des För
 derprogramms „Kommunale Modellvorhaben zur Umsetzu
 ng der ökologischen Nachhaltigkeitsziele in Strukt
 urwandelregionen (KoMoNa)“ vom Bundesministerium f
 ür Umwelt\, Naturschutz\, nukleare Sicherheit und 
 Verbraucherschutz und dem Land Brandenburg geförde
 rt.</p>\n \n <p>Veranstalter ist die SPREEAKADEMIE
  gGmbH.</p></body></html>
DESCRIPTION:Freuen Sie sich auf einen inspirierenden Ausflug i
 n eine besondere Obstlandschaft. Lernen Sie mehr ü
 ber Anbau\, Nutzung und Geschichte unserer Obstsor
 ten und sammeln Sie Ideen für Ihren eigenen Garten
 .\n \n \n \n Wir wollen mit Euch/Ihnen gemeinsam d
 en Frühling feiern. Am 1. Mai machen wir einen Aus
 flug nach Döllingen in den Pomologischen Schau- un
 d Lehrgarten. Dort gibt es beim Blütenfest viel zu
  erleben:\n \n \n \n \n 	Mitmach-Angebote für Groß
  und Klein\,\n 	Kutschfahrten mit Eseln für Kinder
 \,\n 	kleiner Markt mit regionalen Köstlichkeiten\
 ,\n 	Raritäten für die Frühjahrspflanzung und\n 	n
 atürlich ganz viel Musik und Essen.\n \n \n Und al
 s besonderes Extra bekommen wir als Reisegruppe ei
 ne exklusive Führung durch den Schau- und Lehrgart
 en.\n \n \n \n Obstgehölze sind wertvolle Bestandt
 eile unserer Kulturlandschaft. Sie schenken uns Fr
 üchte\, schaffen Lebensräume und prägen vielerorts
  das Landschaftsbild. Im Pomologischen Schau- und 
 Lehrgarten Döllingen wachsen rund 400 Obstgehölze.
  Jede zusätzliche Pflanzenart zieht andere Insekte
 n an. Von ihnen leben wiederum Vögel\, Eidechsen\,
  Igel und viele andere Tiere. So entstehen komplex
 e Lebensgemeinschaften\, die unsere Gärten zu klei
 nen Ökosystemen machen können.\n \n \n \n An- und 
 Abfahrt mit dem Bus\n \n \n \n \n 	Cottbus HBf. 8:
 30 Uhr\n 	Vetschau Bahnhof: 9:30 Uhr\n 	Lübbenau B
 ahnhof: 10:00 Uhr\n \n \n  \n \n \n \n \n 	Ankunft
  in Lübbenau Bhf: 17:00 Uhr\n 	Ankunft in Vetschau
  Hbf: 17:20 Uhr\n 	Ankunft Cottbus Hbf: 18:00 Uhr\
 n \n 	 \n \n \n Die Teilnahme ist kostenlos\, die 
 Plätze sind begrenzt. \n \n \n \n Hinweis: Dieser 
 Workshop sowie viele andere Bildungsangebote werde
 n im Rahmen des Projektes „PartizipNatur“ (https:/
 /spreeakademie.de/projekte/partizipnatur/) durchge
 führt. Dank einer Förderung ist die Teilnahme dahe
 r für Sie kostenlos! Das Projekt wird aus Mitteln 
 des Förderprogramms „Kommunale Modellvorhaben zur 
 Umsetzung der ökologischen Nachhaltigkeitsziele in
  Strukturwandelregionen (KoMoNa)“ vom Bundesminist
 erium für Umwelt\, Naturschutz\, nukleare Sicherhe
 it und Verbraucherschutz und dem Land Brandenburg 
 gefördert.\n \n \n \n Veranstalter ist die SPREEAK
 ADEMIE gGmbH.\n \n 
CATEGORIES:PartizipNatur
CALSCALE:GREGORIAN
DTSTAMP;TZID=Europe/Berlin:20260501T090000
DTSTART;TZID=Europe/Berlin:20260501T090000
DTEND;TZID=Europe/Berlin:20260501T160000
LOCATION:Bahnhof\n 03226 Vetschau/Spreewald\n Germany\n 
URL:https://spreeakademie.de/civicrm/event/info/?reset=1&id=202
END:VEVENT
END:VCALENDAR
