BEGIN:VCALENDAR
VERSION:2.0
PRODID:-//CiviCRM//NONSGML CiviEvent iCal//EN
X-WR-TIMEZONE:Europe/Berlin
METHOD:PUBLISH
BEGIN:VTIMEZONE
TZID:Europe/Berlin
BEGIN:DAYLIGHT
TZOFFSETFROM:+0200
TZOFFSETTO:+0200
TZNAME:CEST
DTSTART:20260708T170000
END:DAYLIGHT
END:VTIMEZONE
BEGIN:VEVENT
UID:CiviCRM_EventID_205_8effdef02a71fd2804c9910562f165e5@spreeakademie.de
SUMMARY:Werkstatt-Treffen der AG Bürgerenergie – offen für
  alle
X-ALT-DESC;FMTTYPE=text/html:<!DOCTYPE HTML PUBLIC
  "-//W3C//DTD HTML 3.2//EN"><html><body><p>Bürgeri
 nnen und Bürger aus Vetschau und Calau wollen geme
 insam eine <strong>Bürgerenergiegenossenschaft </s
 trong>gründen. Erste Projekte sollen z.B. PV-Anlag
 en auf den Dächern der Schule in <strong>Vetschau 
 </strong>oder des Freibads in <strong>Calau </stro
 ng>werden. </p>\n \n <p>Zu den monatlichen Arbeits
 treffen sind alle herzlich eingeladen\, die sich f
 ür eine gemeinschaftliche Energieversorgung intere
 ssieren\, von der Bürger und Kommune profitieren. 
 <strong>Egal\, ob Sie erfahrene Energieexpertin si
 nd oder das Thema ganz neu für Sie ist – kommen Si
 e vorbei!</strong></p>\n \n <p><strong>Hinweis: </
 strong>Dies ist eine kostenlose Bildungsveranstalt
 ung im Rahmen des <a href="https://spreeakademie.d
 e/projekte/mach-ma-watt/" rel="noreferrer noopener
 " target="_blank">Projektes „MachMaWatt!“</a>\, da
 s interessierte Bürgerinnen und Bürger dabei unter
 stützt\, eigene Energieprojekte auf den Weg zu bri
 ngen. MachMaWatt! wird wissenschaftlich begleitet.
  Die Spreeakademie ist dabei Ihr Ansprechpartner v
 or Ort. Im Auftrag der BTU Cottbus-Senftenberg bie
 ten wir praxisorientierte Bildungsformate rund um 
 das Thema Bürgerenergie und ihre Vorteile.</p></bo
 dy></html>
DESCRIPTION:Bürgerinnen und Bürger aus Vetschau und Calau woll
 en gemeinsam eine Bürgerenergiegenossenschaft grün
 den. Erste Projekte sollen z.B. PV-Anlagen auf den
  Dächern der Schule in Vetschau oder des Freibads 
 in Calau werden. \n \n \n \n Zu den monatlichen Ar
 beitstreffen sind alle herzlich eingeladen\, die s
 ich für eine gemeinschaftliche Energieversorgung i
 nteressieren\, von der Bürger und Kommune profitie
 ren. Egal\, ob Sie erfahrene Energieexpertin sind 
 oder das Thema ganz neu für Sie ist – kommen Sie v
 orbei!\n \n \n \n Hinweis: Dies ist eine kostenlos
 e Bildungsveranstaltung im Rahmen des Projektes „M
 achMaWatt!“ (https://spreeakademie.de/projekte/mac
 h-ma-watt/)\, das interessierte Bürgerinnen und Bü
 rger dabei unterstützt\, eigene Energieprojekte au
 f den Weg zu bringen. MachMaWatt! wird wissenschaf
 tlich begleitet. Die Spreeakademie ist dabei Ihr A
 nsprechpartner vor Ort. Im Auftrag der BTU Cottbus
 -Senftenberg bieten wir praxisorientierte Bildungs
 formate rund um das Thema Bürgerenergie und ihre V
 orteile.\n \n 
CATEGORIES:MachMaWatt
CALSCALE:GREGORIAN
DTSTAMP;TZID=Europe/Berlin:20260708T170000
DTSTART;TZID=Europe/Berlin:20260708T170000
DTEND;TZID=Europe/Berlin:20260708T190000
LOCATION:Wilhelm-Pieck-Straße 30\n Räume der Spreeakademie\
 n 03226 Vetschau/Spreewald\n Germany\n 
URL:https://spreeakademie.de/civicrm/event/info/?reset=1&id=205
END:VEVENT
END:VCALENDAR
