BEGIN:VCALENDAR
VERSION:2.0
PRODID:-//CiviCRM//NONSGML CiviEvent iCal//EN
X-WR-TIMEZONE:Europe/Berlin
METHOD:PUBLISH
BEGIN:VTIMEZONE
TZID:Europe/Berlin
BEGIN:DAYLIGHT
TZOFFSETFROM:+0200
TZOFFSETTO:+0200
TZNAME:CEST
DTSTART:20260508T160000
END:DAYLIGHT
END:VTIMEZONE
BEGIN:VEVENT
UID:CiviCRM_EventID_206_8effdef02a71fd2804c9910562f165e5@spreeakademie.de
SUMMARY:Permakulturtage: Gärten als Lebensraum für Mensche
 n\, Tiere und Pflanzen
X-ALT-DESC;FMTTYPE=text/html:<!DOCTYPE HTML PUBLIC
  "-//W3C//DTD HTML 3.2//EN"><html><body><p>Auftakt
  der Permakulturtage mit Praxis zur Wiesenpflege: 
 Zum Auftakt der Permakulturtage üben wir im Lernga
 rten Raddusch das Mähen mit der Handsense. Ergänze
 nd gibt es eine Einführung in die Wiesenpflege und
  in das Dengeln der Sense. Der Nachmittag richtet 
 sich an alle\, die eine alte Kulturtechnik praktis
 ch kennenlernen und direkt ausprobieren möchten.</
 p>\n \n <p>Weitere Infos zu den Permakulturtag: <a
  href="https://spreeakademie.de/news/mission-arten
 reichtum-permakulturtage-im-lerngarten-raddusch/">
 Mission Artenreichtum: Permakulturtage im Lerngart
 en Raddusch</a></p>\n \n <h2>Das komplette Program
 m im Überblick</h2>\n \n <section data-e-type="sec
 tion" data-element_type="section" data-id="40df1a7
 ">\n <h3>Freitag\, 8. Mai</h3>\n \n <p>16:00–20:00
  Uhr – Fokus Blühwiese: Pflege\, Mähen mit der Han
 dsense und Dengel-Workshop</p>\n \n <p><a href="ht
 tps://spreeakademie.de/civicrm/event/info/?reset=1
 &id=206">Anmeldung für Freitag\, 8. Mai 2026</a></
 p>\n \n <h3>Samstag\, 9. Mai</h3>\n \n <p>10:00–11
 :30 Uhr – Einführung in die Permakultur</p>\n \n <
 p>12:00–13:30 Uhr – Waldgärten und Vielfalt in der
  Landschaft</p>\n \n <p>14:30–15:30 Uhr – Führung 
 durch den Radduscher Lerngarten: Alte Sorten und W
 ildobst</p>\n \n <p>16:00–17:00 Uhr – „Baumgesundh
 eit beginnt vor der Pflanzung“: gute Pflanzplanung
  und Hinweise zur Baumpflege</p>\n \n <p><a href="
 https://spreeakademie.de/civicrm/event/info/?reset
 =1&id=207">Anmeldung für Samstag\, 9. Mai 2026</a>
 </p>\n \n <h3>Sonntag\, 10. Mai</h3>\n \n <p>10:00
 –13:30 Uhr – Praxisworkshop: Naturapotheke aus Küc
 henkräutern</p>\n \n <p>14:30–16:00 Uhr – Führung 
 durch den Permakultur-Lerngarten und Praxisworksho
 p: Elemente für mehr Artenreichtum und Kräuterspir
 ale bauen</p>\n \n <p><a href="https://spreeakadem
 ie.de/civicrm/event/info/?reset=1&id=208">Anmeldun
 g für Sonntag\, 10. Mai 2026</a></p>\n </section>\
 n \n <p> </p>\n \n <p><strong>Hinweis: </strong>Di
 eser Workshop sowie viele andere Bildungsangebote 
 werden im Rahmen des <a href="https://spreeakademi
 e.de/projekte/partizipnatur/">Projektes „PartizipN
 atur“</a> durchgeführt. <strong>Dank einer Förderu
 ng ist die Teilnahme daher für Sie kostenlos!</str
 ong> Das Projekt wird aus Mitteln des Förderprogra
 mms „Kommunale Modellvorhaben zur Umsetzung der ök
 ologischen Nachhaltigkeitsziele in Strukturwandelr
 egionen (KoMoNa)“ vom Bundesministerium für Umwelt
 \, Naturschutz\, nukleare Sicherheit und Verbrauch
 erschutz und dem Land Brandenburg gefördert.</p>\n
  \n <p>Veranstalter ist die SPREEAKADEMIE gGmbH.</
 p></body></html>
DESCRIPTION:Auftakt der Permakulturtage mit Praxis zur Wiesenp
 flege: Zum Auftakt der Permakulturtage üben wir im
  Lerngarten Raddusch das Mähen mit der Handsense. 
 Ergänzend gibt es eine Einführung in die Wiesenpfl
 ege und in das Dengeln der Sense. Der Nachmittag r
 ichtet sich an alle\, die eine alte Kulturtechnik 
 praktisch kennenlernen und direkt ausprobieren möc
 hten.\n \n \n \n Weitere Infos zu den Permakulturt
 ag: Mission Artenreichtum: Permakulturtage im Lern
 garten Raddusch (https://spreeakademie.de/news/mis
 sion-artenreichtum-permakulturtage-im-lerngarten-r
 addusch/)\n \n \n \n Das komplette Programm im Übe
 rblick\n \n \n \n Freitag\, 8. Mai\n \n \n 16:00–2
 0:00 Uhr – Fokus Blühwiese: Pflege\, Mähen mit der
  Handsense und Dengel-Workshop\n \n \n \n Anmeldun
 g für Freitag\, 8. Mai 2026 (https://spreeakademie
 .de/civicrm/event/info/?reset=1&id=206)\n \n \n \n
  Samstag\, 9. Mai\n \n \n 10:00–11:30 Uhr – Einfüh
 rung in die Permakultur\n \n \n \n 12:00–13:30 Uhr
  – Waldgärten und Vielfalt in der Landschaft\n \n 
 \n \n 14:30–15:30 Uhr – Führung durch den Raddusch
 er Lerngarten: Alte Sorten und Wildobst\n \n \n \n
  16:00–17:00 Uhr – „Baumgesundheit beginnt vor der
  Pflanzung“: gute Pflanzplanung und Hinweise zur B
 aumpflege\n \n \n \n Anmeldung für Samstag\, 9. Ma
 i 2026 (https://spreeakademie.de/civicrm/event/inf
 o/?reset=1&id=207)\n \n \n \n Sonntag\, 10. Mai\n 
 \n \n 10:00–13:30 Uhr – Praxisworkshop: Naturapoth
 eke aus Küchenkräutern\n \n \n \n 14:30–16:00 Uhr 
 – Führung durch den Permakultur-Lerngarten und Pra
 xisworkshop: Elemente für mehr Artenreichtum und K
 räuterspirale bauen\n \n \n \n Anmeldung für Sonnt
 ag\, 10. Mai 2026 (https://spreeakademie.de/civicr
 m/event/info/?reset=1&id=208)\n \n \n \n \n  \n \n
  \n \n Hinweis: Dieser Workshop sowie viele andere
  Bildungsangebote werden im Rahmen des Projektes „
 PartizipNatur“ (https://spreeakademie.de/projekte/
 partizipnatur/) durchgeführt. Dank einer Förderung
  ist die Teilnahme daher für Sie kostenlos! Das Pr
 ojekt wird aus Mitteln des Förderprogramms „Kommun
 ale Modellvorhaben zur Umsetzung der ökologischen 
 Nachhaltigkeitsziele in Strukturwandelregionen (Ko
 MoNa)“ vom Bundesministerium für Umwelt\, Natursch
 utz\, nukleare Sicherheit und Verbraucherschutz un
 d dem Land Brandenburg gefördert.\n \n \n \n Veran
 stalter ist die SPREEAKADEMIE gGmbH.\n \n 
CATEGORIES:PartizipNatur
CALSCALE:GREGORIAN
DTSTAMP;TZID=Europe/Berlin:20260508T160000
DTSTART;TZID=Europe/Berlin:20260508T160000
DTEND;TZID=Europe/Berlin:20260508T200000
LOCATION:Lerngarten Raddusch\n in der Kleingartensparte "An
  der Eisenbahn e.V."\n Schulweg\n 03226 Raddusch\n
  Germany\n 
URL:https://spreeakademie.de/civicrm/event/info/?reset=1&id=206
END:VEVENT
END:VCALENDAR
