BEGIN:VCALENDAR
VERSION:2.0
PRODID:-//CiviCRM//NONSGML CiviEvent iCal//EN
X-WR-TIMEZONE:Europe/Berlin
METHOD:PUBLISH
BEGIN:VTIMEZONE
TZID:Europe/Berlin
BEGIN:DAYLIGHT
TZOFFSETFROM:+0200
TZOFFSETTO:+0200
TZNAME:CEST
DTSTART:20260509T100000
END:DAYLIGHT
END:VTIMEZONE
BEGIN:VEVENT
UID:CiviCRM_EventID_207_8effdef02a71fd2804c9910562f165e5@spreeakademie.de
SUMMARY:Permakulturtage: Gärten als Lebensraum für Mensche
 n\, Tiere und Pflanzen
X-ALT-DESC;FMTTYPE=text/html:<!DOCTYPE HTML PUBLIC
  "-//W3C//DTD HTML 3.2//EN"><html><body><p>Permaku
 ltur verstehen und den Lerngarten entdecken: Am Sa
 mstag widmen wir uns den Grundlagen der Permakultu
 r und schauen auf Waldgärten\, Vielfalt in der Lan
 dschaft sowie auf alte Sorten und Wildobst im Lern
 garten. Eine Führung und ein Beitrag zur Baumgesun
 dheit zeigen\, wie gute Planung und naturnahe Gest
 altung zusammenwirken.</p>\n \n <p>Weitere Infos z
 u den Permakulturtag: <a href="https://spreeakadem
 ie.de/news/mission-artenreichtum-permakulturtage-i
 m-lerngarten-raddusch/">Mission Artenreichtum: Per
 makulturtage im Lerngarten Raddusch</a></p>\n \n <
 h2>Das komplette Programm im Überblick</h2>\n \n <
 section data-e-type="section" data-element_type="s
 ection" data-id="40df1a7">\n <h3>Freitag\, 8. Mai<
 /h3>\n \n <p>16:00–20:00 Uhr – Fokus Blühwiese: Pf
 lege\, Mähen mit der Handsense und Dengel-Workshop
 </p>\n \n <p><a href="https://spreeakademie.de/civ
 icrm/event/info/?reset=1&id=206">Anmeldung für Fre
 itag\, 8. Mai 2026</a></p>\n \n <h3>Samstag\, 9. M
 ai</h3>\n \n <p>10:00–11:30 Uhr – Einführung in di
 e Permakultur</p>\n \n <p>12:00–13:30 Uhr – Waldgä
 rten und Vielfalt in der Landschaft</p>\n \n <p>14
 :30–15:30 Uhr – Führung durch den Radduscher Lerng
 arten: Alte Sorten und Wildobst</p>\n \n <p>16:00–
 17:00 Uhr – „Baumgesundheit beginnt vor der Pflanz
 ung“: gute Pflanzplanung und Hinweise zur Baumpfle
 ge</p>\n \n <p><a href="https://spreeakademie.de/c
 ivicrm/event/info/?reset=1&id=207">Anmeldung für S
 amstag\, 9. Mai 2026</a></p>\n \n <h3>Sonntag\, 10
 . Mai</h3>\n \n <p>10:00–13:30 Uhr – Praxisworksho
 p: Naturapotheke aus Küchenkräutern</p>\n \n <p>14
 :30–16:00 Uhr – Führung durch den Permakultur-Lern
 garten und Praxisworkshop: Elemente für mehr Arten
 reichtum und Kräuterspirale bauen</p>\n \n <p><a h
 ref="https://spreeakademie.de/civicrm/event/info/?
 reset=1&id=208">Anmeldung für Sonntag\, 10. Mai 20
 26</a></p>\n </section>\n \n <p><strong>Hinweis: <
 /strong>Dieser Workshop sowie viele andere Bildung
 sangebote werden im Rahmen des <a href="https://sp
 reeakademie.de/projekte/partizipnatur/">Projektes 
 „PartizipNatur“</a> durchgeführt. <strong>Dank ein
 er Förderung ist die Teilnahme daher für Sie koste
 nlos!</strong> Das Projekt wird aus Mitteln des Fö
 rderprogramms „Kommunale Modellvorhaben zur Umsetz
 ung der ökologischen Nachhaltigkeitsziele in Struk
 turwandelregionen (KoMoNa)“ vom Bundesministerium 
 für Umwelt\, Naturschutz\, nukleare Sicherheit und
  Verbraucherschutz und dem Land Brandenburg geförd
 ert.</p>\n \n <p>Veranstalter ist die SPREEAKADEMI
 E gGmbH.</p></body></html>
DESCRIPTION:Permakultur verstehen und den Lerngarten entdecken
 : Am Samstag widmen wir uns den Grundlagen der Per
 makultur und schauen auf Waldgärten\, Vielfalt in 
 der Landschaft sowie auf alte Sorten und Wildobst 
 im Lerngarten. Eine Führung und ein Beitrag zur Ba
 umgesundheit zeigen\, wie gute Planung und naturna
 he Gestaltung zusammenwirken.\n \n \n \n Weitere I
 nfos zu den Permakulturtag: Mission Artenreichtum:
  Permakulturtage im Lerngarten Raddusch (https://s
 preeakademie.de/news/mission-artenreichtum-permaku
 lturtage-im-lerngarten-raddusch/)\n \n \n \n Das k
 omplette Programm im Überblick\n \n \n \n Freitag\
 , 8. Mai\n \n \n 16:00–20:00 Uhr – Fokus Blühwiese
 : Pflege\, Mähen mit der Handsense und Dengel-Work
 shop\n \n \n \n Anmeldung für Freitag\, 8. Mai 202
 6 (https://spreeakademie.de/civicrm/event/info/?re
 set=1&id=206)\n \n \n \n Samstag\, 9. Mai\n \n \n 
 10:00–11:30 Uhr – Einführung in die Permakultur\n 
 \n \n \n 12:00–13:30 Uhr – Waldgärten und Vielfalt
  in der Landschaft\n \n \n \n 14:30–15:30 Uhr – Fü
 hrung durch den Radduscher Lerngarten: Alte Sorten
  und Wildobst\n \n \n \n 16:00–17:00 Uhr – „Baumge
 sundheit beginnt vor der Pflanzung“: gute Pflanzpl
 anung und Hinweise zur Baumpflege\n \n \n \n Anmel
 dung für Samstag\, 9. Mai 2026 (https://spreeakade
 mie.de/civicrm/event/info/?reset=1&id=207)\n \n \n
  \n Sonntag\, 10. Mai\n \n \n 10:00–13:30 Uhr – Pr
 axisworkshop: Naturapotheke aus Küchenkräutern\n \
 n \n \n 14:30–16:00 Uhr – Führung durch den Permak
 ultur-Lerngarten und Praxisworkshop: Elemente für 
 mehr Artenreichtum und Kräuterspirale bauen\n \n \
 n \n Anmeldung für Sonntag\, 10. Mai 2026 (https:/
 /spreeakademie.de/civicrm/event/info/?reset=1&id=2
 08)\n \n \n \n \n Hinweis: Dieser Workshop sowie v
 iele andere Bildungsangebote werden im Rahmen des 
 Projektes „PartizipNatur“ (https://spreeakademie.d
 e/projekte/partizipnatur/) durchgeführt. Dank eine
 r Förderung ist die Teilnahme daher für Sie kosten
 los! Das Projekt wird aus Mitteln des Förderprogra
 mms „Kommunale Modellvorhaben zur Umsetzung der ök
 ologischen Nachhaltigkeitsziele in Strukturwandelr
 egionen (KoMoNa)“ vom Bundesministerium für Umwelt
 \, Naturschutz\, nukleare Sicherheit und Verbrauch
 erschutz und dem Land Brandenburg gefördert.\n \n 
 \n \n Veranstalter ist die SPREEAKADEMIE gGmbH.\n 
 \n 
CATEGORIES:PartizipNatur
CALSCALE:GREGORIAN
DTSTAMP;TZID=Europe/Berlin:20260509T100000
DTSTART;TZID=Europe/Berlin:20260509T100000
DTEND;TZID=Europe/Berlin:20260509T170000
LOCATION:Lerngarten Raddusch\n in der Kleingartensparte "An
  der Eisenbahn e.V."\n Schulweg\n 03226 Raddusch\n
  Germany\n 
URL:https://spreeakademie.de/civicrm/event/info/?reset=1&id=207
END:VEVENT
END:VCALENDAR
