BEGIN:VCALENDAR
VERSION:2.0
PRODID:-//CiviCRM//NONSGML CiviEvent iCal//EN
X-WR-TIMEZONE:Europe/Berlin
METHOD:PUBLISH
BEGIN:VTIMEZONE
TZID:Europe/Berlin
BEGIN:DAYLIGHT
TZOFFSETFROM:+0200
TZOFFSETTO:+0200
TZNAME:CEST
DTSTART:20260510T100000
END:DAYLIGHT
END:VTIMEZONE
BEGIN:VEVENT
UID:CiviCRM_EventID_208_8effdef02a71fd2804c9910562f165e5@spreeakademie.de
SUMMARY:Permakulturtage: Gärten als Lebensraum für Mensche
 n\, Tiere und Pflanzen
X-ALT-DESC;FMTTYPE=text/html:<!DOCTYPE HTML PUBLIC
  "-//W3C//DTD HTML 3.2//EN"><html><body><p><strong
 >Küchenkräuter\, Kräuterspirale und mehr Leben im 
 Garten: </strong>Der Sonntag steht im Zeichen der 
 praktischen Anwendung. Im Workshop zur Naturapothe
 ke aus Küchenkräutern lernen die Teilnehmenden Hei
 l- und Verwendungsmöglichkeiten bekannter Kräuter 
 kennen. Am Nachmittag geht es bei einer Führung un
 d einem Praxisworkshop um Elemente für mehr Leben 
 im Garten und den Bau einer Kräuterspirale.</p>\n 
 \n <p>Weitere Infos zu den Permakulturtag: <a href
 ="https://spreeakademie.de/news/mission-artenreich
 tum-permakulturtage-im-lerngarten-raddusch/">Missi
 on Artenreichtum: Permakulturtage im Lerngarten Ra
 ddusch</a></p>\n \n <h2>Das komplette Programm im 
 Überblick</h2>\n \n <section data-e-type="section"
  data-element_type="section" data-id="40df1a7">\n 
 <h3>Freitag\, 8. Mai</h3>\n \n <p>16:00–20:00 Uhr 
 – Fokus Blühwiese: Pflege\, Mähen mit der Handsens
 e und Dengel-Workshop</p>\n \n <p><a href="https:/
 /spreeakademie.de/civicrm/event/info/?reset=1&id=2
 06">Anmeldung für Freitag\, 8. Mai 2026</a></p>\n 
 \n <h3>Samstag\, 9. Mai</h3>\n \n <p>10:00–11:30 U
 hr – Einführung in die Permakultur</p>\n \n <p>12:
 00–13:30 Uhr – Waldgärten und Vielfalt in der Land
 schaft</p>\n \n <p>14:30–15:30 Uhr – Führung durch
  den Radduscher Lerngarten: Alte Sorten und Wildob
 st</p>\n \n <p>16:00–17:00 Uhr – „Baumgesundheit b
 eginnt vor der Pflanzung“: gute Pflanzplanung und 
 Hinweise zur Baumpflege</p>\n \n <p><a href="https
 ://spreeakademie.de/civicrm/event/info/?reset=1&id
 =207">Anmeldung für Samstag\, 9. Mai 2026</a></p>\
 n \n <h3>Sonntag\, 10. Mai</h3>\n \n <p>10:00–13:3
 0 Uhr – Praxisworkshop: Naturapotheke aus Küchenkr
 äutern</p>\n \n <p>14:30–16:00 Uhr – Führung durch
  den Permakultur-Lerngarten und Praxisworkshop: El
 emente für mehr Artenreichtum und Kräuterspirale b
 auen</p>\n \n <p><a href="https://spreeakademie.de
 /civicrm/event/info/?reset=1&id=208">Anmeldung für
  Sonntag\, 10. Mai 2026</a></p>\n </section>\n \n 
 <p><strong>Hinweis: </strong>Dieser Workshop sowie
  viele andere Bildungsangebote werden im Rahmen de
 s <a href="https://spreeakademie.de/projekte/parti
 zipnatur/">Projektes „PartizipNatur“</a> durchgefü
 hrt. <strong>Dank einer Förderung ist die Teilnahm
 e daher für Sie kostenlos!</strong> Das Projekt wi
 rd aus Mitteln des Förderprogramms „Kommunale Mode
 llvorhaben zur Umsetzung der ökologischen Nachhalt
 igkeitsziele in Strukturwandelregionen (KoMoNa)“ v
 om Bundesministerium für Umwelt\, Naturschutz\, nu
 kleare Sicherheit und Verbraucherschutz und dem La
 nd Brandenburg gefördert.</p>\n \n <p>Veranstalter
  ist die SPREEAKADEMIE gGmbH.</p></body></html>
DESCRIPTION:Küchenkräuter\, Kräuterspirale und mehr Leben im G
 arten: Der Sonntag steht im Zeichen der praktische
 n Anwendung. Im Workshop zur Naturapotheke aus Küc
 henkräutern lernen die Teilnehmenden Heil- und Ver
 wendungsmöglichkeiten bekannter Kräuter kennen. Am
  Nachmittag geht es bei einer Führung und einem Pr
 axisworkshop um Elemente für mehr Leben im Garten 
 und den Bau einer Kräuterspirale.\n \n \n \n Weite
 re Infos zu den Permakulturtag: Mission Artenreich
 tum: Permakulturtage im Lerngarten Raddusch (https
 ://spreeakademie.de/news/mission-artenreichtum-per
 makulturtage-im-lerngarten-raddusch/)\n \n \n \n D
 as komplette Programm im Überblick\n \n \n \n Frei
 tag\, 8. Mai\n \n \n 16:00–20:00 Uhr – Fokus Blühw
 iese: Pflege\, Mähen mit der Handsense und Dengel-
 Workshop\n \n \n \n Anmeldung für Freitag\, 8. Mai
  2026 (https://spreeakademie.de/civicrm/event/info
 /?reset=1&id=206)\n \n \n \n Samstag\, 9. Mai\n \n
  \n 10:00–11:30 Uhr – Einführung in die Permakultu
 r\n \n \n \n 12:00–13:30 Uhr – Waldgärten und Viel
 falt in der Landschaft\n \n \n \n 14:30–15:30 Uhr 
 – Führung durch den Radduscher Lerngarten: Alte So
 rten und Wildobst\n \n \n \n 16:00–17:00 Uhr – „Ba
 umgesundheit beginnt vor der Pflanzung“: gute Pfla
 nzplanung und Hinweise zur Baumpflege\n \n \n \n A
 nmeldung für Samstag\, 9. Mai 2026 (https://spreea
 kademie.de/civicrm/event/info/?reset=1&id=207)\n \
 n \n \n Sonntag\, 10. Mai\n \n \n 10:00–13:30 Uhr 
 – Praxisworkshop: Naturapotheke aus Küchenkräutern
 \n \n \n \n 14:30–16:00 Uhr – Führung durch den Pe
 rmakultur-Lerngarten und Praxisworkshop: Elemente 
 für mehr Artenreichtum und Kräuterspirale bauen\n 
 \n \n \n Anmeldung für Sonntag\, 10. Mai 2026 (htt
 ps://spreeakademie.de/civicrm/event/info/?reset=1&
 id=208)\n \n \n \n \n Hinweis: Dieser Workshop sow
 ie viele andere Bildungsangebote werden im Rahmen 
 des Projektes „PartizipNatur“ (https://spreeakadem
 ie.de/projekte/partizipnatur/) durchgeführt. Dank 
 einer Förderung ist die Teilnahme daher für Sie ko
 stenlos! Das Projekt wird aus Mitteln des Förderpr
 ogramms „Kommunale Modellvorhaben zur Umsetzung de
 r ökologischen Nachhaltigkeitsziele in Strukturwan
 delregionen (KoMoNa)“ vom Bundesministerium für Um
 welt\, Naturschutz\, nukleare Sicherheit und Verbr
 aucherschutz und dem Land Brandenburg gefördert.\n
  \n \n \n Veranstalter ist die SPREEAKADEMIE gGmbH
 .\n \n 
CATEGORIES:PartizipNatur
CALSCALE:GREGORIAN
DTSTAMP;TZID=Europe/Berlin:20260510T100000
DTSTART;TZID=Europe/Berlin:20260510T100000
DTEND;TZID=Europe/Berlin:20260510T160000
LOCATION:Lerngarten Raddusch\n in der Kleingartensparte "An
  der Eisenbahn e.V."\n Schulweg\n 03226 Raddusch\n
  Germany\n 
URL:https://spreeakademie.de/civicrm/event/info/?reset=1&id=208
END:VEVENT
END:VCALENDAR
